BEGIN:VCALENDAR
VERSION:2.0
PRODID:-//Squarespace Inc/Squarespace 6//v6//EN
BEGIN:VEVENT
UID:5d6fdbb34b57780001feab1a@squarespace.com
DTSTAMP:20191107T182844Z
DTSTART:20191121T160000Z
DTEND:20191121T180000Z
SUMMARY:Taste of Louisiana: Creole Italian Class and Lunch at SoFAB
GEO:29.940973;-90.079205
LOCATION:Southern Food & Beverage Museum\, 1504 Oretha Castle Haley Bouleva
 rd\, New Orleans\, LA\, 70113\, United States
END:VEVENT
END:VCALENDAR
