BEGIN:VCALENDAR
VERSION:2.0
PRODID:-//Squarespace Inc/Squarespace 6//v6//EN
BEGIN:VEVENT
UID:5d94c51851d4c94ba81d6a18@squarespace.com
DTSTAMP:20191002T154953Z
DTSTART:20191013T170000Z
DTEND:20191013T193000Z
SUMMARY:Master of the Craft: Makin' Bacon
GEO:29.940973;-90.079205
LOCATION:Southern Food & Beverage Museum\, 1504 Oretha Castle Haley Bouleva
 rd\, New Orleans\, LA\, 70113\, United States
END:VEVENT
END:VCALENDAR
