BEGIN:VCALENDAR
VERSION:2.0
PRODID:-//Squarespace Inc/Squarespace 6//v6//EN
BEGIN:VEVENT
UID:5d81516257e3753573c921c0@squarespace.com
DTSTAMP:20190926T204217Z
DTSTART:20191010T220000Z
DTEND:20191011T010000Z
SUMMARY:Tiki Garden Party!
END:VEVENT
END:VCALENDAR
