BEGIN:VCALENDAR
VERSION:2.0
PRODID:-//Squarespace Inc/Squarespace 6//v6//EN
BEGIN:VEVENT
UID:5d5efff0d44fef000190fe7f@squarespace.com
DTSTAMP:20191008T195928Z
DTSTART:20190908T170000Z
DTEND:20190908T190000Z
SUMMARY:Master of the Craft: Going Whole Hog 
GEO:29.940973;-90.079205
LOCATION:Southern Food & Beverage Museum\, 1504 Oretha Castle Haley Bouleva
 rd\, New Orleans\, LA\, 70113\, United States
END:VEVENT
END:VCALENDAR
