BEGIN:VCALENDAR
VERSION:2.0
PRODID:-//Squarespace Inc/Squarespace 6//v6//EN
BEGIN:VEVENT
UID:5d559174abad860001f3898f@squarespace.com
DTSTAMP:20190918T172811Z
DTSTART:20190922T170000Z
DTEND:20190922T190000Z
SUMMARY:Master of the Craft: Make Your Own Specialty Meat Products
GEO:29.940973;-90.079205
LOCATION:Southern Food & Beverage Museum\, 1504 Oretha Castle Haley Bouleva
 rd\, New Orleans\, LA\, 70113\, United States
END:VEVENT
END:VCALENDAR
