BEGIN:VCALENDAR
VERSION:2.0
PRODID:-//Squarespace Inc/Squarespace 6//v6//EN
BEGIN:VEVENT
UID:5cf7e3520a5d670001528565@squarespace.com
DTSTAMP:20190605T154526Z
DTSTART:20190620T160000Z
DTEND:20190620T180000Z
SUMMARY:Taste of Louisiana: Creole Italian Class and Lunch at SoFAB
GEO:29.940973;-90.079205
LOCATION:Southern Food & Beverage Museum\, 1504 Oretha Castle Haley Bouleva
 rd\, New Orleans\, LA\, 70113\, United States
END:VEVENT
END:VCALENDAR
