BEGIN:VCALENDAR
VERSION:2.0
PRODID:-//Squarespace Inc/Squarespace 6//v6//EN
BEGIN:VEVENT
UID:5d1267dfb12e4f000144e67c@squarespace.com
DTSTAMP:20190625T182930Z
DTSTART:20190815T150000Z
DTEND:20190815T170000Z
SUMMARY:Taste of Louisiana: Creole Italian Class and Lunch at SoFAB
GEO:29.940973;-90.079205
LOCATION:Southern Food & Beverage Museum\, 1504 Oretha Castle Haley Bouleva
 rd\, New Orleans\, LA\, 70113\, United States
END:VEVENT
END:VCALENDAR
