BEGIN:VCALENDAR
VERSION:2.0
PRODID:-//Squarespace Inc/Squarespace 6//v6//EN
BEGIN:VEVENT
UID:5c5330854fa51a04f5e09e3a@squarespace.com
DTSTAMP:20190131T173037Z
DTSTART:20190509T150000Z
DTEND:20190509T170000Z
SUMMARY:Taste of Louisiana: Creole Italian Class and Lunch at SoFAB
GEO:29.940973;-90.079205
LOCATION:Southern Food & Beverage Museum\, 1504 Oretha Castle Haley Bouleva
 rd\, New Orleans\, LA\, 70113\, United States
END:VEVENT
END:VCALENDAR
