BEGIN:VCALENDAR
VERSION:2.0
PRODID:-//Squarespace Inc/Squarespace 6//v6//EN
BEGIN:VEVENT
UID:5c53303ef950b7d24b04a9e4@squarespace.com
DTSTAMP:20190131T172908Z
DTSTART:20190425T150000Z
DTEND:20190425T170000Z
SUMMARY:Taste of Louisiana: Creole Italian Class and Lunch at SoFAB
GEO:29.940973;-90.079205
LOCATION:Southern Food & Beverage Museum\, 1504 Oretha Castle Haley Bouleva
 rd\, New Orleans\, LA\, 70113\, United States
END:VEVENT
END:VCALENDAR
