BEGIN:VCALENDAR
VERSION:2.0
PRODID:-//Squarespace Inc/Squarespace 6//v6//EN
BEGIN:VEVENT
UID:5c51f22f4ae237397ddb7247@squarespace.com
DTSTAMP:20190130T185411Z
DTSTART:20190415T150000Z
DTEND:20190415T170000Z
SUMMARY:Taste of Louisiana: Creole Class and Lunch at SoFAB
GEO:29.940973;-90.079205
LOCATION:Southern Food & Beverage Museum\, 1504 Oretha Castle Haley Bouleva
 rd\, New Orleans\, LA\, 70113\, United States
END:VEVENT
END:VCALENDAR
