BEGIN:VCALENDAR
VERSION:2.0
PRODID:-//Squarespace Inc/Squarespace 6//v6//EN
BEGIN:VEVENT
UID:5c8151d96e9a7f6ad5d85a6e@squarespace.com
DTSTAMP:20190307T173808Z
DTSTART:20190406T170000Z
DTEND:20190406T183000Z
SUMMARY:In the SoFAB Kitchen with Author Nancy Maveety
GEO:29.940705;-90.079198
LOCATION:Southern Food & Beverage Museum\, 1504 Oretha Castle Haley Bouleva
 rd\, New Orleans\, LA\, 70113\, United States
END:VEVENT
END:VCALENDAR
