BEGIN:VCALENDAR
VERSION:2.0
PRODID:-//Squarespace Inc/Squarespace 6//v6//EN
BEGIN:VEVENT
UID:5c5b06a371c10ba3471343fb@squarespace.com
DTSTAMP:20190227T162752Z
DTSTART:20190201T140000Z
DTEND:20190201T200000Z
SUMMARY:Herb Society Spring Plant Sale at SoFAB!
GEO:29.940738;-90.079093
LOCATION:The Gumbo Garden at SoFAB\, 1830 Martin Luther King Jr. Blvd\, New 
 Orleans\, LA 70113
END:VEVENT
END:VCALENDAR
