BEGIN:VCALENDAR
VERSION:2.0
PRODID:-//Squarespace Inc/Squarespace 6//v6//EN
BEGIN:VEVENT
UID:5c62e56af9619a5d38087e39@squarespace.com
DTSTAMP:20190311T164806Z
DTSTART:20190310T170000Z
DTEND:20190310T193000Z
SUMMARY:Master of the Craft: Andouille &amp\; Tasso
GEO:29.940973;-90.079205
LOCATION:Southern Food & Beverage Museum\, 1504 Oretha Castle Haley Bouleva
 rd\, New Orleans\, LA\, 70113\, United States
END:VEVENT
END:VCALENDAR
