BEGIN:VCALENDAR
VERSION:2.0
PRODID:-//Squarespace Inc/Squarespace 6//v6//EN
BEGIN:VEVENT
UID:5e0507da1aa65222ba7d4f90@squarespace.com
DTSTAMP:20191226T214425Z
DTSTART:20200108T000000Z
DTEND:20200108T020000Z
SUMMARY:Koch El Mezcal: Drinking Liquid Art with Joel Caruso
GEO:34.103996;-118.325051
LOCATION:The Conservatory at Ever Bar The Kimpton Everly Hotel\, 1800 Argyl
 e Avenue\, Los Angeles\, CA\, 90028\, United States
END:VEVENT
END:VCALENDAR
