BEGIN:VCALENDAR
VERSION:2.0
PRODID:-//Squarespace Inc/Squarespace 6//v6//EN
BEGIN:VEVENT
UID:5dfbc3a0f74ce17bca984f1a@squarespace.com
DTSTAMP:20191219T190256Z
DTSTART:20191222T190000Z
DTEND:20191222T203000Z
SUMMARY:Cookies! Easy Holiday Bakes &amp\; Other Treats with Christina Slee
 per
GEO:34.048994;-118.243744
LOCATION:Yapa Little Tokyo\, 236 S. Los Angeles St.\, Ste. G Los Angeles\, 
 Los Angeles\, CA 90012\, United States
END:VEVENT
END:VCALENDAR
