BEGIN:VCALENDAR
VERSION:2.0
PRODID:-//Squarespace Inc/Squarespace 6//v6//EN
BEGIN:VEVENT
UID:5dd83b16c90bca41d7175962@squarespace.com
DTSTAMP:20191206T172839Z
DTSTART:20191218T000000Z
DTEND:20191218T030000Z
SUMMARY:Réveillon! A Creole Christmas Feast in LA's Little New Orleans with 
 WhistlePig Rye Whiskey &amp\; Blaine Adams
GEO:34.025452;-118.327908
LOCATION:Harold & Belle's\, 2920 West Jefferson Boulevard\, Los Angeles\, C
 A\, 90018\, United States
END:VEVENT
END:VCALENDAR
