BEGIN:VCALENDAR
VERSION:2.0
PRODID:-//Squarespace Inc/Squarespace 6//v6//EN
BEGIN:VEVENT
UID:5de9634eb15cda78b1695ad2@squarespace.com
DTSTAMP:20191205T201536Z
DTSTART:20191208T190000Z
DTEND:20191208T203000Z
SUMMARY:Crawfish Étouffée: A Creole Classic with Chef Ryan Legaux
GEO:34.048994;-118.243744
LOCATION:Yapa Little Tokyo\, 236 S. Los Angeles St.\, Ste. G\, Los Angeles\
 , CA\, 90012\, United States
END:VEVENT
END:VCALENDAR
